BEGIN:VCALENDAR
VERSION:2.0
PRODID:Imitheme.com 
BEGIN:VEVENT
UID:20260422T0751311663411368
DTSTAMP;TZID=UTC:2026-04-22 07:51:31
DTSTART;TZID=America/Los_Angeles:20260422T075131
DTEND;TZID=America/Los_Angeles:20260422T075131
SUMMARY:Tuesday Bible Study
LOCATION:
DESCRIPTION:Every Tuesdays with Pastor Cliff in the UPC library. Bring a lunch to enjoy together before the study begins.
URL:https://www.unitedpcf.com/eventer/tuesday-bible-study/
END:VEVENT
END:VCALENDAR
