BEGIN:VCALENDAR
VERSION:2.0
PRODID:Imitheme.com 
BEGIN:VEVENT
UID:20260426T0006292126673744
DTSTAMP;TZID=UTC:2026-04-26 00:06:29
DTSTART;TZID=America/Los_Angeles:20260426T000629
DTEND;TZID=America/Los_Angeles:20260426T000629
SUMMARY:Annual Congregational Meeting
LOCATION:
DESCRIPTION:Immediately following services
URL:https://www.unitedpcf.com/eventer/annual-congregational-meeting/
END:VEVENT
END:VCALENDAR
