BEGIN:VCALENDAR
VERSION:2.0
PRODID:Imitheme.com 
BEGIN:VEVENT
UID:20260423T080110476790703
DTSTAMP;TZID=UTC:2026-04-23 08:01:10
DTSTART;TZID=America/Los_Angeles:20260423T080110
DTEND;TZID=America/Los_Angeles:20260423T080110
SUMMARY:Chancel Choir Practice
LOCATION:
DESCRIPTION:
URL:https://www.unitedpcf.com/eventer/chancel-choir-practice/
END:VEVENT
END:VCALENDAR
