BEGIN:VCALENDAR
VERSION:2.0
PRODID:Imitheme.com 
BEGIN:VEVENT
UID:20260426T002554856136655
DTSTAMP;TZID=UTC:2026-04-26 00:25:54
DTSTART;TZID=America/Los_Angeles:20260426T002554
DTEND;TZID=America/Los_Angeles:20260426T002554
SUMMARY:Patty Carroll Celebration of Life
LOCATION:
DESCRIPTION:A celebration of life is scheduled for January 6, 2024 on what would have been Patti’s 71st birthday. A reception will be held from 12-4pm at the Lake Hopatcong Elks, 201 Howard Boulevard, Mt. Arlington, NJ 07856.  https://davishepplewhitefh.com/obituaries/patricia-a-carroll/
URL:https://www.unitedpcf.com/eventer/patty-carroll-celebration-of-life/
END:VEVENT
END:VCALENDAR
